BEGIN:VCALENDAR
VERSION:2.0
PRODID:http://st-kunigunde.de
BEGIN:VEVENT
UID:d766bf99-30cd-11f1-a8bf-0242ac11002b-1777798800000-de
DTSTAMP:20260405T090006Z
DTSTART:20260503T090000Z
DTEND:20260503T100000Z
SUMMARY;LANGUAGE=de:Kindergottesdienst (Wortgottesdienst)
END:VEVENT
END:VCALENDAR
